BEGIN:VCALENDAR
VERSION:2.0
PRODID:-//Advanced Aesthetics - ECPv4.2.6//NONSGML v1.0//EN
CALSCALE:GREGORIAN
METHOD:PUBLISH
X-WR-CALNAME:Advanced Aesthetics
X-ORIGINAL-URL:https://advancedaesthetics.ie
X-WR-CALDESC:Events for Advanced Aesthetics
BEGIN:VEVENT
DTSTART;VALUE=DATE:20180204
DTEND;VALUE=DATE:20180225
DTSTAMP:20171105T075349
CREATED:20160522
LAST-MODIFIED:20171102
UID:461-1517702400-1519603199@advancedaesthetics.ie
SUMMARY:Certificate in Laser and IPL
DESCRIPTION:This is a vocationally related qualification and is focused on reducing hair growth and photo rejuvenation of the skin using Intense Pulse Light and Laser treatments. You will identify hair and skin conditions and those clients suitable for Intense Pulse Light and Laser system treatments.\n\nTherapists wishing to perform IPL (Intense Pulsed Light) / Laser therapies must hold a Level 4 qualification. Insurance companies require a Level 3 Beauty qualification and the Level 4 Certificate in Laser & IPL to be eligible for insurance cover.\n\nCertifications\nVTCT Level 4 (Ire level 6) Certificate in Laser and Intense Pulsed light treatments\nEntry Requirements\nLevel 3 Beauty Therapy or equivalent (required by insurance companies)\nCourse Content\nLaser and light treatments for hair removal\n\n \tEvidence requirements –You will need to carry out fully competent assessments on the following ranges: underarms\, chin\, upper lip\, bikini line\, back\, legs\, chest\, and abdomen using Laser and IPL machines.\n\nLaser and light treatments for skin rejuvenation\n\n \tEvidence requirements – You will need to carry out fully competent assessments on the following treatments: reduction of fine lines\, pigmentation\, telangiectasia\, campbell de morgan spots\, photo aged skin.\n\nManagement of health and safety\n\n \tEvidence Requirements – Competent performance must be demonstrated during all assessments. You will be required to carry out a risk assessment.\n\nClient care and communications\n\n \tEvidence Requirements – This unit will be used as RPL form previous qualifications.\n\nAll course notes will be sent to candidates once full payment has been made. All Anatomy & Physiology is covered by pre requisite for the course however the Hair and Skin will be covered in further detail with assignments to confirm knowledge.\nAssessment\nFor practical elements you will be observed by your assessor. All your work must be collected in a portfolio of evidence and cross referenced to requirements listed in your Assessment Book. An Internal Verifier will check your assessments to ensure evidence is valid. A VTCT External Verifier will sample observations and portfolios. Practical observations will be assessed as per unit listed above. Evidence of knowledge will be assessed through assignments.\nCourse Requirements\n\n \tA copy of qualifications must be sent on application.\n \tStudents must wear a white tunic and black trousers to every class\n \t2 x White bath towels\, 2 x Black handtowels\n\nCourse Duration: 7 Days \n10am - 4pm\n\n \n\nFebruary: 4th\, 5th\, 11th\, 12th\, 18th\, 19th\, 25th\n\n \nProgression\nThis is an approved qualification for working as an advanced beauty therapist specialising in reducing hair growth and photo rejuvenation of the skin. It also provides a sound platform for further learning or training. This qualification provides progression opportunities to the following VTCT qualifications:\n\n \tLevel 4 Diploma in Permanent Hair Removal and Skin Rejuvenation\n \tLevel 4 Award in Skin Blemish Removal\n\nInsurance\nThe Academy has secured insurance for all successful candidates with a reputable UK based insurance company. With upcoming changes to Insurance\, it is recommended by some regulatory bodies’ that therapists wishing to perform IPL (Intense Pulsed Light) / Laser therapies should achieve a Level 4 qualification by 2016. Insurance companies require a Level 3 Beauty qualification and the Level 4 Certificate in Laser & IPL to be eligible for insurance cover.\nPayment\nCost €1350\nDeposit €350\n\nBalance payable over 4 instalments of  €250\n\n 
URL:https://advancedaesthetics.ie/course/certificate-in-laser-and-ipl/
LOCATION:Unit 5 Waterford Business Park\, Cork Road\, Waterford\, Ireland
GEO:52.2507528;-7.1187765
X-APPLE-STRUCTURED-LOCATION;VALUE=URI;X-ADDRESS=Unit 5 Waterford Business Park Cork Road Waterford Ireland;X-APPLE-RADIUS=500;X-TITLE=Unit 5 Waterford Business Park\, Cork Road:geo:-7.1187765,52.2507528
CATEGORIES:Advanced
ATTACH;FMTTYPE=image/jpeg:https://advancedaesthetics.ie/wp-content/uploads/2016/08/Certificate-in-Laser-IPL-Post-grad.jpg
END:VEVENT
END:VCALENDAR