BEGIN:VCALENDAR
VERSION:2.0
PRODID:-//Advanced Aesthetics - ECPv4.2.6//NONSGML v1.0//EN
CALSCALE:GREGORIAN
METHOD:PUBLISH
X-WR-CALNAME:Advanced Aesthetics
X-ORIGINAL-URL:https://advancedaesthetics.ie
X-WR-CALDESC:Events for Advanced Aesthetics
BEGIN:VEVENT
DTSTART;TZID=UTC+0:20170102T080000
DTEND;TZID=UTC+0:20170630T170000
DTSTAMP:20171105T075459
CREATED:20160822T163534
LAST-MODIFIED:20161114T205459
UID:470-1483344000-1498842000@advancedaesthetics.ie
SUMMARY:Level 4 Certificate in Leading the Internal Quality Assurance of Assessment Processes and Practices
DESCRIPTION:The role of the Internal Verifier is to monitor the work of all assessors involved with a particular qualification\, ensuring accuracy and consistency of activities and decisions. You will already be an experienced assessor and hold a Vocational Assessor qualification.\n\nThe internal verifier:\n\n \tEnsures that assessors follow the qualification assessment guidance provided\n \tSample and observe activities\, methods and records to ensure that assessment decisions are consistent and then provide assessors with constructive feedback on their decisions.\n \tKeeps up to date records of internal verification and sampling activities and ensure that these by the awarding body are available for the awarding body to see.\n \tRaises issues of good practice in assessment and organise regular meetings between all staff involved in the process.\n \tEnsures that any corrective actions required by the awarding body’s external verifier are put into place.\n\nEntry Requirements:\nYou will need an Assessor qualification and need to be working within a training centre before you can achieve your IQA Certificate. You must have minimum of 12 months experience of assessing. You can only IQA a subject area you are qualified in.\n\nDepending on your role\, you will need to collect a portfolio of evidence which demonstrates your competency in supporting other assessors and ensuring quality and consistency across a qualification. Your role will involve: evaluating the internal assessment audit systems; carrying out related internal verification or moderation activities\, maintaining and improving standards in your centre.\nLearning Outcomes\n\n \tdevelop your knowledge and understanding that underpins the internal quality assurance of assessment.\n \tdevelop your performance as a learning and development practitioner with responsibility for the internal quality assurance of assessment.\n \tdevelop your skills to plan\, allocate and monitor work in your own area of responsibility\, and make any necessary changes to original work plans.\n\nDuration: Completed in a 3 - 6 month period\nTheory will be delivered through online tutorial. Practical training will take place in your own training centre or via Skype.\nCourse Fees: €550\nFees must be paid in full on enrolment. Access to online tutorials will be sent on payment.
URL:https://advancedaesthetics.ie/course/level-4-certificate-in-leading-the-internal-quality-assurance-of-assessment-processes-and-practices/
LOCATION:Unit 5 Waterford Business Park\, Cork Road\, Waterford\, Ireland
GEO:52.2507528;-7.1187765
X-APPLE-STRUCTURED-LOCATION;VALUE=URI;X-ADDRESS=Unit 5 Waterford Business Park Cork Road Waterford Ireland;X-APPLE-RADIUS=500;X-TITLE=Unit 5 Waterford Business Park\, Cork Road:geo:-7.1187765,52.2507528
CATEGORIES:Teacher Training Courses
ATTACH;FMTTYPE=image/jpeg:https://advancedaesthetics.ie/wp-content/uploads/2016/08/Business-Leadership.jpg
END:VEVENT
END:VCALENDAR