BEGIN:VCALENDAR
VERSION:2.0
PRODID:-//Advanced Aesthetics - ECPv4.2.6//NONSGML v1.0//EN
CALSCALE:GREGORIAN
METHOD:PUBLISH
X-WR-CALNAME:Advanced Aesthetics
X-ORIGINAL-URL:https://advancedaesthetics.ie
X-WR-CALDESC:Events for Advanced Aesthetics
BEGIN:VEVENT
DTSTART;VALUE=DATE:20170915
DTEND;VALUE=DATE:20171210
DTSTAMP:20171024T023135
CREATED:20160822
LAST-MODIFIED:20170419
UID:472-1505433600-1512950399@advancedaesthetics.ie
SUMMARY:Level 4 Certificate in Education and Training
DESCRIPTION: \n\n \nCourse Details\nThe Certificate in Education and Training is a qualification designed to enable you to develop practical teaching skills.  This qualification has been mapped to the relevant National Occupational Standards and is accredited on the Qualifications and Credit Framework (QCF) and QQI Ireland.\n\nThis course is suitable for those who wish to begin a career in teaching in Beauty\, Hairdressing or Barbering.  Our course is very different to other teaching courses as the emphasis is on the practical elements of teaching.  This course will enable you to design and teach courses in your area of expertise.\nWhere does the training take place?\nTheory through online tutorials and 3 days classroom based.  Learners will prepare for their teaching practice sessions in the classroom and will be assessed by your tutor during their work placement.  All material for your qualification will be uploaded to an E Learning platform. This can be accessed from anywhere. All assignments and teaching observations  will be submitted through E portfolio.\n\nOnce payment has been made\, instructions will be sent on how to access the course online.  Learners must have a certain amount of tutorials and assignments completed before the classroom based training.  Please note no refunds can be made once the online material has been accessed.\nEntry Requirements: \nThere are no formal pre requisite qualifications that you must have prior to undertaking this qualification.  You must have relevant qualifications and commercial experience in the area you wish to teach.\n\nLearners must be computer efficient as the assessment material must be submitted through online portfolio.\nCourse Content\nUnit 1: Delivering Education and Training\nThe aim of this unit is to enable you to use inclusive teaching and learning approaches in accordance with internal processes and external requirements\, to communicate with learners and to evaluate own delivery practice. You will gain an understanding of how technology can enhance teaching and learning and covers expectations in relation to the minimum core in delivering inclusive teaching and learning.\nUnit 2 – Understand Roles\, Responsibilities & Relationships in Education & Training \nThe aim of this unit is to enable you to understand the role and responsibilities of a teacher in education and training and the relationship between different professionals within education and training.\nUnit 3: Assessing Learners in Education and Training\nThe aim of the unit is to enable you to use types and methods of assessment\, to conduct and record assessment in accordance with internal and external processes and requirements and to evaluate your own assessment practice. You will cover the expectations in relation to the minimum core in assessing learners in lifelong learning.\nUnit 4: Manage Learning and Development\nThe aim of this unit is to enable you to manage learning and development in groups. You are expected to understand the use of a variety of management methods\, for example motivational strategies\, behaviour management\, provision of advice as well as deliver strategies to facilitate learning. You are also expected to involve learners within groups in the learning and development process.\n Unit 5: Teaching in a Specialist Area\nThe unit aims to develop your knowledge and skills in relation to teaching in a specialist area. The specialist area may be a vocational or subject area. It includes consideration of the aims and philosophy of education and training in a specialist area and the aims and structure of key sector qualifications. It also includes curriculum issues\, inclusive teaching and learning\, and evaluating and improving your own practice in a specialist area.\nUnit 6 – Planning to Meet the Needs of the Learners \nYou will be able to agree individual learning goals with your learners\, to plan inclusive learning and teaching approaches in accordance with internal processes and external requirements and to evaluate your own practice in planning teaching and learning.\n\nAssessment\n\n \tPowerpoint presentation\n \tPractical demonstration in chosen area\n \tAssessment of learners\n \tAssignments\n \tTeaching Practice - 30 hours (15 hours teaching + 15 hours observing qualified tutor)\n\nProgression\nYou can progress directly into employment as a teacher in the further education sector\n\nOn completion you may choose to undertake further study:\n\n \tLevel 3 Certificate in Assessing Vocational Achievement - graduates of the Level 4 Teaching course will be awarded exemptions towards this course (Reduced price €350)\n \tLevel 4 Certificate in Leading Internal Quality Assurance\n \tLevel 5 Diploma in Education and Training\n\nDuration: Completed in a 6 month period\n3 Days Classroom based\n\nCandidates must enrol before 15th September and submit Unit 1 assignment before the 6th October.  If the deadline is missed you will need to wait for the next course.\n\nDay One: Saturday 7th October 10-4\n\nDay Two: Saturday 11th November 10 -4\n\nDay Three: Sunday 10th December 10- 1\n\nTheory through online tutorials and classroom based.  Learners will prepare for their practical observations in the classroom and will be assessed during their work placement.  All assignments and portfolio work will be submitted through online portfolio.\nCourse Fees: €950\nFees must be paid in full on enrolment.  Access to online tutorials will be sent on payment.
URL:https://advancedaesthetics.ie/course/level-4-certificate-in-education-and-training/
LOCATION:Unit 5 Waterford Business Park\, Cork Road\, Waterford\, Ireland
GEO:52.2507528;-7.1187765
X-APPLE-STRUCTURED-LOCATION;VALUE=URI;X-ADDRESS=Unit 5 Waterford Business Park Cork Road Waterford Ireland;X-APPLE-RADIUS=500;X-TITLE=Unit 5 Waterford Business Park\, Cork Road:geo:-7.1187765,52.2507528
CATEGORIES:Teacher Training Courses
ATTACH;FMTTYPE=image/jpeg:https://advancedaesthetics.ie/wp-content/uploads/2016/08/Diverse-People-and-Training.jpg
END:VEVENT
BEGIN:VEVENT
DTSTART;VALUE=DATE:20171001
DTEND;VALUE=DATE:20171001
DTSTAMP:20171024T023135
CREATED:20170110
LAST-MODIFIED:20170816
UID:857-1506816000-1506902399@advancedaesthetics.ie
SUMMARY:Electrolysis Refresher Course
DESCRIPTION:Has it been a while since you practiced electrolysis?  Maybe you trained in Diathermy and want to add Galvanic and Blend to your skill set.  Maybe you would like to upskill you Electrolysis qualification to Advanced Electrolysis.   It’s time for a refresher course.  Further training will add enormous value to your career and keep you up to date with the latest techniques.\n\nEntry Requirements \n\nA recognised full electrolysis qualification.\n\nCourse content\n\n \tHealth & Safety\n \tConsultation\n \tContra Indications\n \tContra actions to treatments\n \tTheory and practical of Diathermy\, Galvanic and Blend\n \tTreatment of all body and facial areas\n \tTroubleshooting\n \tTreatment plans\n\nDuration: 1 Day\n\nSunday 1st October 2017\n\n10am – 5:30 pm\n\nProgression\n\nVTCT Level 4 Award in Advanced Electrolysis\n\nReceive a 10% Discount off the Advanced Epilation course (save €95) when booked within 6 months of taking the Refresher course\n\nPayment\n\n€160 – must be paid on enrolment\n\nFee includes light luncheon\, registration\, certification\, and all administrative costs.
URL:https://advancedaesthetics.ie/course/electrolysis-refresher-course/
LOCATION:Unit 5 Waterford Business Park\, Cork Road\, Waterford\, Ireland
GEO:52.2507528;-7.1187765
X-APPLE-STRUCTURED-LOCATION;VALUE=URI;X-ADDRESS=Unit 5 Waterford Business Park Cork Road Waterford Ireland;X-APPLE-RADIUS=500;X-TITLE=Unit 5 Waterford Business Park\, Cork Road:geo:-7.1187765,52.2507528
CATEGORIES:Post Grad
END:VEVENT
BEGIN:VEVENT
DTSTART;TZID=UTC+0:20171002T080000
DTEND;TZID=UTC+0:20171211T170000
DTSTAMP:20171024T023135
CREATED:20170420T103613
LAST-MODIFIED:20170615T082714
UID:999-1506931200-1513011600@advancedaesthetics.ie
SUMMARY:Award in Skincare & Facial Massage
DESCRIPTION:The VTCT Level 2 Award in Facial Massage and Skin Care (QCF) is a qualification that has been specifically designed to develop your practical skills in; how to provide facial skin care. Underpinning this qualification you will develop a sound knowledge of health and safety practices in a salon environment and how to promote client care and communications in beauty related industries. You will also develop an underpinning knowledge and understanding of the practical skills learned throughout this qualification. The purpose of this qualification is to develop your skills in Aesthetic treatments to a high level of occupational ability\, to enable you to perform your own salon services.\n\nEntry Requirements\n\nThere are no formal pre requisite qualifications that you must have prior to undertaking this qualification.\n\n \tThe minimum age for entry to this course is 17 years – no exceptions. There is no upper age limit.\n• An excellent level of English is required.\n\n \n\nCourse Content\n\nProvide Facial Massage and Skincare\nIn this unit you will learn about maintaining and improving facial skin condition using exfoliation\, skin warming\, comedone extraction\, facial massage\, mask treatments and facial moisturising products. This unit is predominantly hands on working on different skin types and learning how to recommend products and future treatments.  All treatments are carried out using Image Skincare products.\n\nFollow health and safety practice in the salon \n\nThe aim of this unit is to increase your understanding of health and safety and its importance in the salon in which you work. You will develop the ability to carry out a simple risk analysis\, recognise a hazard\, responsibly deal with the hazards you have found and follow safe and hygienic working practices. You will also need to be able to locate fire fighting equipment\, first aid resources and have an awareness of fire\, emergency and evacuation procedures.\n\n Client care and communication in beauty-related industries\n\nThis unit is about client care and communication in beauty‑related industries. You will develop your communication skills to deal with consultations\, complaints\, client comfort and all forms of client care. You will develop a client‑centered approach to all your treatments.\n\n \n\nAssessment\n\nFor practical elements you will be observed by your assessor.  All your work must be collected in a portfolio of evidence and cross referenced to requirements listed in your Assessment Book.  An Internal Verifier will check your assessments to ensure evidence is valid.  A VTCT External Verifier will sample observations and portfolios. Practical observations will be assessed as per unit listed above.  Evidence of knowledge will be assessed through assignments.\n\n \n\nCourse Requirements\n\nA skincare kit\, books and examination fess are all included in your fees.  There are no extra costs.\n\nYou will be required to dress professionally in a therapist uniform for all classes.  A white tunic and black trousers is preferable.  Hair must be tied back and all nail enhancements and gel polish must be removed for classes.\n\n \n\nCourse Duration:  8 Days\n\nMondays 10am – 4:30pm (1 Sunday 10th December)\n\nOctober: 2nd\, 9th\, 23rd\n\nNovember: 13th\, 20th\n\nDecember: 4th\, 10th\, 11th\n\n \n\nProgression\n\nThis is an approved qualification for working as a beauty or aesthetic therapist.  It also provides a sound platform for further learning or training. This qualification provides progression opportunities to the following VTCT qualifications:\n\n \tLevel 3 Certificate in Facial Electrical\n \tLevel 3 Certificate in Microdermabrasion\n \tLevel 4 Certificate in Laser & IPL\n \tLevel 4 Diploma in Permanent Hair Removal and Skin Rejuvenation\n \tAdvanced Skincare Course\n \t\n\nPayment\n\nCost €900\n\nDeposit €300 – Balance can be paid over 3 monthly instalments\n\n \n\nFunding Opportunities\n\nThis qualification is listed by QQI on the National Framework\, and is eligible for TESG funding.  Please contact your local Social Welfare for details.
URL:https://advancedaesthetics.ie/course/award-in-skincare-facial-massage/
LOCATION:Unit 5 Waterford Business Park\, Cork Road\, Waterford\, Ireland
GEO:52.2507528;-7.1187765
X-APPLE-STRUCTURED-LOCATION;VALUE=URI;X-ADDRESS=Unit 5 Waterford Business Park Cork Road Waterford Ireland;X-APPLE-RADIUS=500;X-TITLE=Unit 5 Waterford Business Park\, Cork Road:geo:-7.1187765,52.2507528
CATEGORIES:Entry Level,Entry level beauty
ATTACH;FMTTYPE=image/jpeg:https://advancedaesthetics.ie/wp-content/uploads/2016/08/image-skincare-products.jpg
END:VEVENT
BEGIN:VEVENT
DTSTART;VALUE=DATE:20171015
DTEND;VALUE=DATE:20171210
DTSTAMP:20171024T023135
CREATED:20160522
LAST-MODIFIED:20170909
UID:461-1508025600-1512950399@advancedaesthetics.ie
SUMMARY:Certificate in Laser and IPL
DESCRIPTION:This is a vocationally related qualification and is focused on reducing hair growth and photo rejuvenation of the skin using Intense Pulse Light and Laser treatments. You will identify hair and skin conditions and those clients suitable for Intense Pulse Light and Laser system treatments.\n\nTherapists wishing to perform IPL (Intense Pulsed Light) / Laser therapies must hold a Level 4 qualification. Insurance companies require a Level 3 Beauty qualification and the Level 4 Certificate in Laser & IPL to be eligible for insurance cover.\n\nCertifications\nVTCT Level 4 (Ire level 6) Certificate in Laser and Intense Pulsed light treatments\nEntry Requirements\nLevel 3 Beauty Therapy or equivalent (required by insurance companies)\nCourse Content\nLaser and light treatments for hair removal\n\n \tEvidence requirements –You will need to carry out fully competent assessments on the following ranges: underarms\, chin\, upper lip\, bikini line\, back\, legs\, chest\, and abdomen using Laser and IPL machines.\n\nLaser and light treatments for skin rejuvenation\n\n \tEvidence requirements – You will need to carry out fully competent assessments on the following treatments: reduction of fine lines\, pigmentation\, telangiectasia\, campbell de morgan spots\, photo aged skin.\n\nManagement of health and safety\n\n \tEvidence Requirements – Competent performance must be demonstrated during all assessments. You will be required to carry out a risk assessment.\n\nClient care and communications\n\n \tEvidence Requirements – This unit will be used as RPL form previous qualifications.\n\nAll course notes will be sent to candidates once full payment has been made. All Anatomy & Physiology is covered by pre requisite for the course however the Hair and Skin will be covered in further detail with assignments to confirm knowledge.\nAssessment\nFor practical elements you will be observed by your assessor. All your work must be collected in a portfolio of evidence and cross referenced to requirements listed in your Assessment Book. An Internal Verifier will check your assessments to ensure evidence is valid. A VTCT External Verifier will sample observations and portfolios. Practical observations will be assessed as per unit listed above. Evidence of knowledge will be assessed through assignments.\nCourse Requirements\n\n \tA copy of qualifications must be sent on application.\n \tStudents must wear a white tunic and black trousers to every class\n \t2 x White bath towels\, 2 x Black handtowels\n\nCourse Duration: 8 Days \nSundays 10am - 4pm\n\nOctober: 15th\, 22nd\n\nNovember: 5th\, 12th\, 19th\, 26th\n\nDecember: 3rd\, 10th\n\nCandidates will attend training for 8 days over 9 weeks. The last day is required for VTCT sampling. All portfolio work must be completed by 10th December 2017.\nProgression\nThis is an approved qualification for working as an advanced beauty therapist specialising in reducing hair growth and photo rejuvenation of the skin. It also provides a sound platform for further learning or training. This qualification provides progression opportunities to the following VTCT qualifications:\n\n \tLevel 4 Diploma in Permanent Hair Removal and Skin Rejuvenation\n \tLevel 4 Award in Skin Blemish Removal\n\nInsurance\nThe Academy has secured insurance for all successful candidates with a reputable UK based insurance company. With upcoming changes to Insurance\, it is recommended by some regulatory bodies’ that therapists wishing to perform IPL (Intense Pulsed Light) / Laser therapies should achieve a Level 4 qualification by 2016. Insurance companies require a Level 3 Beauty qualification and the Level 4 Certificate in Laser & IPL to be eligible for insurance cover.\nPayment\nCost €1350\nDeposit €350\n\nBalance payable over 4 instalments of  €250\n\n 
URL:https://advancedaesthetics.ie/course/certificate-in-laser-and-ipl/
LOCATION:Unit 5 Waterford Business Park\, Cork Road\, Waterford\, Ireland
GEO:52.2507528;-7.1187765
X-APPLE-STRUCTURED-LOCATION;VALUE=URI;X-ADDRESS=Unit 5 Waterford Business Park Cork Road Waterford Ireland;X-APPLE-RADIUS=500;X-TITLE=Unit 5 Waterford Business Park\, Cork Road:geo:-7.1187765,52.2507528
CATEGORIES:Advanced
ATTACH;FMTTYPE=image/jpeg:https://advancedaesthetics.ie/wp-content/uploads/2016/08/Certificate-in-Laser-IPL-Post-grad.jpg
END:VEVENT
BEGIN:VEVENT
DTSTART;TZID=UTC+0:20171015T100000
DTEND;TZID=UTC+0:20171210T163000
DTSTAMP:20171024T023135
CREATED:20160522T161827
LAST-MODIFIED:20170805T121850
UID:467-1508061600-1512923400@advancedaesthetics.ie
SUMMARY:Diploma in Advanced Aesthetics Treatments - Laser\, IPL\, Microdermabrasion\, Physiology of Ageing & Advanced Epliation
DESCRIPTION:The Level 4 Diploma in Permanent Hair Removal and Skin Rejuvenation (QCF) will provide you with the understanding and skills to provide permanent hair reduction for all hair types. Darker hair can be treated using intense light and laser systems\, whilst lighter hair can be treated using electrical epilation. This qualification will also provide you with the skills to treat skin imperfections and to rejuvenate the skin using intense pulsed light systems\, advanced epilation or microdermabrasion. You will gain a deeper understanding of the physiology of ageing and you will also focus on the management of client care and health and safety in the salon.\nStudents have the option to take units as individual courses. Students can also use previous qualifications as exemptions towards the full Diploma.\n Certification\nVTCT Level 4 Diploma in Permanent Hair Removal and Skin Rejuvenation\n\n \n\nEntry Requirements\n\nLevel 2 Beauty Therapy or equivalent\n\nLevel 3 Electrolysis (required by insurance companies)\n\nAssessment\n\nFor practical elements you will be observed by your assessor.  All your work must be collected in a portfolio of evidence and cross referenced to requirements listed in your Assessment Book.  An Internal Verifier will check your assessments to ensure evidence is valid.  A VTCT External Verifier will sample observations and portfolios. Practical observations will be assessed as per unit listed above.  Evidence of knowledge will be assessed through assignments.\n\nCourse Requirements\n\n \tStudents must wear a white tunic and black trousers to every class\n \t2 x White bath towels\, 2 x Black handtowels (not included in fees)\n \tStudents must have their own supply of disposable head bands\, couch roll\, cotton\, facial sponges and tissues\, camera for photographic evidence.\n\n \n\nCourse Content\n\n \tCertificate in Laser/IPL\n \tCertificate in Microdermabrasion\n \tCertificate in Advanced Epilation - Advanced Cosmetic Procedures\n\n \n\n1. Certificate in Laser/IPL\n\nThis is a vocationally related qualification and is focused on reducing hair growth and photo rejuvenation of the skin using Intense Pulse Light and Laser Treatments. You will identify hair and skin conditions and those clients suitable for Intense Pulse Light and Laser system treatments. Training will be delivered using Laser and IPL equipment.\nLaser hair removal has become a lucrative business nowadays. This is because people prefer the process for removing their bodily hairs due to its painlessness\, effectiveness and expediency.\nThe regulatory body states that all therapists wishing to carry out Laser or IPL treatments must have the NVQ/VRQ Level 4 qualification by 2016. This is now mandatory.\nCourse Content\n\n \tLaser and light treatments for hair removal\n \tLaser and light treatments for skin rejuvenation\n \tManagement of health and safety\n \tClient care and communications\n\n2. Certificate in Microdermabrasion & Physiology of Ageing\nCourse Content\n\n \tApply Microdermabrasion\n \tPhysiology of ageing\n \tMonitor and maintain health and safety\n \tClient care and communications\n \tCharacteristics of ageing\n \tIntrinsic and extrinsic environmental factors\n \tAgeing process\n \tRepair mechanisms\n \tPathological conditions\n \tEffects of UV\n \tDegenerative disorders\n \tTreatments to delay the ageing process\n\n3. Certificate in Advanced Skin Blemish Removal\nLearn the skills involved in carrying out providing advanced electrical epilation techniques to treat skin tags\, telangiectasia\, spider naevi and blood spots. You will also need to carry out a thorough consultation with the client\, formulate an individual treatment plan and provide the relevant treatment advice. To carry out this unit you will need to maintain effective health\, safety and hygiene procedures throughout your treatment.\nCourse Duration: 12 Days\nOctober: 15th\, 22nd\, 23rd\n\nNovember: 5th\, 6th\, 12th\, 19th\, 20th\, 26th\, 27th\n\nDecember: 3rd\, 10th\n\nSundays 10am - 4.30pm\n\nIncludes 3 Mondays\n\n \n\nInsurance\n\nThe Academy has secured insurance for all successful candidates with a reputable UK based insurance company.  With upcoming changes to Insurance\, it is recommended by some regulatory bodies’ that therapists wishing to perform IPL (Intense Pulsed Light) / Laser therapies should achieve a Level 4 qualification by 2016.  Insurance companies require a Level 3 Beauty qualification and the Level 4 Certificate in Laser & IPL to be eligible for insurance cover.
URL:https://advancedaesthetics.ie/course/vtct-level-4-diploma-in-permanent-hair-removal-and-skin-rejuvenation-qcf/
LOCATION:Unit 5 Waterford Business Park\, Cork Road\, Waterford\, Ireland
GEO:52.2507528;-7.1187765
X-APPLE-STRUCTURED-LOCATION;VALUE=URI;X-ADDRESS=Unit 5 Waterford Business Park Cork Road Waterford Ireland;X-APPLE-RADIUS=500;X-TITLE=Unit 5 Waterford Business Park\, Cork Road:geo:-7.1187765,52.2507528
CATEGORIES:Advanced,Post Grad
ATTACH;FMTTYPE=image/jpeg:https://advancedaesthetics.ie/wp-content/uploads/2016/08/Certificate-in-Laser-IPL-Post-grad.jpg
END:VEVENT
BEGIN:VEVENT
DTSTART;TZID=UTC+0:20171021T080000
DTEND;TZID=UTC+0:20180103T170000
DTSTAMP:20171024T023135
CREATED:20170118T120805
LAST-MODIFIED:20170727T083248
UID:909-1508572800-1514998800@advancedaesthetics.ie
SUMMARY:Certificate in Electrolysis
DESCRIPTION:This qualification is about the skills involved in assessing\, preparing for and carrying out electrical needle epilation treatments to remove hair using alternating current and blend techniques.\n\nYou will also need to show you can competently advise clients on the care needed after electrical epilation.  The purpose of this qualification is to develop your skills as a beauty therapist or electrologist to enable you to provide electrical epilation treatments.\n\nCertification\n\nVTCT Level 3 Certificate in Epilation\n\nEntry Requirements\n\nLevel 2 Beauty Therapy or equivalent (required by insurance companies from next year)\n\n \n\nCourse Content\n\n \tHealth and safety\n \tClient care and communications\n\n\n \tProvide electrical epilation - Evidence Requirements – Competent performance must be demonstrated on six occasions treating facial hair\, bikini and underarm hair using Blend\, Galvanic and Short Wave Diathermy modalities.           \n\n \n\n \n\nAll Anatomy & Physiology is covered by pre requisite for the course however the Hair and Skin will be covered in further detail with assignments to confirm knowledge.\n\n \n\nAssessment\n\nFor practical elements you will be observed by your assessor.  All your work must be collected in a portfolio of evidence and cross referenced to requirements listed in your Assessment Book.  An Internal Verifier will check your assessments to ensure evidence is valid.  A VTCT External Verifier will sample observations and portfolios. Practical observations will be assessed as per unit listed above.  Evidence of knowledge will be assessed through assignments.\n\n \n\n \n\nCourse Requirements\n\n \tA copy of qualifications must be sent on application.\n\n\n \tStudents must wear a white tunic and black trousers to every class\n \t2 x White bath towels\, 2 x Black handtowels\n\n \n\nCourse Duration: 6 Days 10am – 2pm\n\nOctober - 21st\n\nNovember - 4th\, 11th\, 25th\n\nDecember - 9th\n\n \n\nFinal assessment day Sunday 10th December\n\n \n\nCandidates will attend training for 6 days over 3 months. It is recommended that students practice Epilation outside of these hours.  Information on purchasing equipment can be provided by contacting the office.  An additional day is required for final assessments.  All portfolio work must be completed for this unit.\n\n \n\nProgression\n\nThis is an approved qualification for working as an advanced beauty therapist specialising in reducing hair growth. It also provides a sound platform for further learning or training. This qualification provides progression opportunities to the following VTCT qualifications:\n\n \tLevel 4 Diploma in Permanent Hair Removal and Skin Rejuvenation\n \tLevel 4 Award in Skin Blemish Removal\n\n \n\nFees: €750\n\nDeposit €250\, €500 on commencement
URL:https://advancedaesthetics.ie/course/certificate-in-electrolysis-2/
LOCATION:Unit 5 Waterford Business Park\, Cork Road\, Waterford\, Ireland
GEO:52.2507528;-7.1187765
X-APPLE-STRUCTURED-LOCATION;VALUE=URI;X-ADDRESS=Unit 5 Waterford Business Park Cork Road Waterford Ireland;X-APPLE-RADIUS=500;X-TITLE=Unit 5 Waterford Business Park\, Cork Road:geo:-7.1187765,52.2507528
CATEGORIES:Advanced,Post Grad
END:VEVENT
BEGIN:VEVENT
DTSTART;VALUE=DATE:20171023
DTEND;VALUE=DATE:20171203
DTSTAMP:20171024T023135
CREATED:20160822
LAST-MODIFIED:20171012
UID:464-1508716800-1512345599@advancedaesthetics.ie
SUMMARY:Certificate in Microdermabrasion
DESCRIPTION:This qualification has been specifically designed to develop your practical skills providing safe microdermabrasion to clients.  To further your practical skills you will study the physiology of ageing.\nCertification\nVTCT Level 3 Certificate in Microdermabrasion Treatments\nEntry Requirements\nLevel 2 Beauty qualification\nCourse Content\n\n \tApply microdermabrasion\n \tMonitor and maintain health and safety\n \tClient care and communications\n \tCharacteristics of ageing\n \tIntrinsic and extrinsic environmental factors\n \tAgeing process\n \tRepair mechanisms\n \tPathological conditions\n \tEffects of UV\n \tDegenerative disorders\n \tTreatments to delay the ageing process\n\nAssessment\nFor practical elements you will be observed by your assessor.  All your work must be collected in a portfolio of evidence and cross referenced to requirements listed in your Assessment Book.  An Internal Verifier will check your assessments to ensure evidence is valid.  A VTCT External Verifier will sample observations and portfolios. Practical observations will be assessed as per unit listed above.  Evidence of knowledge will be assessed through assignments.\nCourse Requirements\n\n \tA copy of qualifications must be sent on application.\n \tStudents must wear a white tunic and black trousers to every class\n \t2 x White bath towels\, 2 x Black handtowels \n\nCourse Duration: 4 Days\nOctober: Monday 23rd\n\nNovember: Monday 6th\, Sunday 26th\n\nDecember: Sunday 3rd\n\nCandidates will attend training for 3 days.  An additional day on 10th December is required for VTCT sampling.  All portfolio work must be completed for this unit.\nFees\n€550: A deposit of €250 is required to secure your place and the balance can be paid on the first class.
URL:https://advancedaesthetics.ie/course/certificate-in-microdermabrasion/
LOCATION:Unit 5 Waterford Business Park\, Cork Road\, Waterford\, Ireland
GEO:52.2507528;-7.1187765
X-APPLE-STRUCTURED-LOCATION;VALUE=URI;X-ADDRESS=Unit 5 Waterford Business Park Cork Road Waterford Ireland;X-APPLE-RADIUS=500;X-TITLE=Unit 5 Waterford Business Park\, Cork Road:geo:-7.1187765,52.2507528
CATEGORIES:Advanced
ATTACH;FMTTYPE=image/jpeg:https://advancedaesthetics.ie/wp-content/uploads/2016/08/electrolysis.jpg
END:VEVENT
END:VCALENDAR